BEGIN:VCALENDAR
VERSION:2.0
PRODID:-//Jazz in Schwechat - ECPv6.15.20//NONSGML v1.0//EN
CALSCALE:GREGORIAN
METHOD:PUBLISH
X-WR-CALNAME:Jazz in Schwechat
X-ORIGINAL-URL:https://jazzinschwechat.at
X-WR-CALDESC:Veranstaltungen für Jazz in Schwechat
REFRESH-INTERVAL;VALUE=DURATION:PT1H
X-Robots-Tag:noindex
X-PUBLISHED-TTL:PT1H
BEGIN:VTIMEZONE
TZID:Europe/Vienna
BEGIN:DAYLIGHT
TZOFFSETFROM:+0100
TZOFFSETTO:+0200
TZNAME:CEST
DTSTART:20250330T010000
END:DAYLIGHT
BEGIN:STANDARD
TZOFFSETFROM:+0200
TZOFFSETTO:+0100
TZNAME:CET
DTSTART:20251026T010000
END:STANDARD
BEGIN:DAYLIGHT
TZOFFSETFROM:+0100
TZOFFSETTO:+0200
TZNAME:CEST
DTSTART:20260329T010000
END:DAYLIGHT
BEGIN:STANDARD
TZOFFSETFROM:+0200
TZOFFSETTO:+0100
TZNAME:CET
DTSTART:20261025T010000
END:STANDARD
BEGIN:DAYLIGHT
TZOFFSETFROM:+0100
TZOFFSETTO:+0200
TZNAME:CEST
DTSTART:20270328T010000
END:DAYLIGHT
BEGIN:STANDARD
TZOFFSETFROM:+0200
TZOFFSETTO:+0100
TZNAME:CET
DTSTART:20271031T010000
END:STANDARD
END:VTIMEZONE
BEGIN:VEVENT
DTSTART;TZID=Europe/Vienna:20260507T190000
DTEND;TZID=Europe/Vienna:20260507T220000
DTSTAMP:20260423T114813
CREATED:20260217T191212Z
LAST-MODIFIED:20260217T191212Z
UID:744-1778180400-1778191200@jazzinschwechat.at
SUMMARY:Jazz Session im Brauhaus Schwechat
DESCRIPTION:
URL:https://jazzinschwechat.at/event/jazz-session-im-brauhaus-schwechat-7/
LOCATION:Brauhaus Schwechat\, Mautner Markhof Straße 13\, A-2320 Schwechat\, Niederösterreich\, 2320\, Austria
END:VEVENT
BEGIN:VEVENT
DTSTART;TZID=Europe/Vienna:20260611T190000
DTEND;TZID=Europe/Vienna:20260611T220000
DTSTAMP:20260423T114813
CREATED:20260217T191248Z
LAST-MODIFIED:20260217T191248Z
UID:746-1781204400-1781215200@jazzinschwechat.at
SUMMARY:Jazz Session im Brauhaus Schwechat
DESCRIPTION:
URL:https://jazzinschwechat.at/event/jazz-session-im-brauhaus-schwechat-8/
LOCATION:Brauhaus Schwechat\, Mautner Markhof Straße 13\, A-2320 Schwechat\, Niederösterreich\, 2320\, Austria
END:VEVENT
END:VCALENDAR