BEGIN:VCALENDAR
VERSION:2.0
PRODID:-//Jazz in Schwechat - ECPv6.15.20//NONSGML v1.0//EN
CALSCALE:GREGORIAN
METHOD:PUBLISH
X-WR-CALNAME:Jazz in Schwechat
X-ORIGINAL-URL:https://jazzinschwechat.at
X-WR-CALDESC:Veranstaltungen für Jazz in Schwechat
REFRESH-INTERVAL;VALUE=DURATION:PT1H
X-Robots-Tag:noindex
X-PUBLISHED-TTL:PT1H
BEGIN:VTIMEZONE
TZID:Europe/Vienna
BEGIN:DAYLIGHT
TZOFFSETFROM:+0100
TZOFFSETTO:+0200
TZNAME:CEST
DTSTART:20240331T010000
END:DAYLIGHT
BEGIN:STANDARD
TZOFFSETFROM:+0200
TZOFFSETTO:+0100
TZNAME:CET
DTSTART:20241027T010000
END:STANDARD
BEGIN:DAYLIGHT
TZOFFSETFROM:+0100
TZOFFSETTO:+0200
TZNAME:CEST
DTSTART:20250330T010000
END:DAYLIGHT
BEGIN:STANDARD
TZOFFSETFROM:+0200
TZOFFSETTO:+0100
TZNAME:CET
DTSTART:20251026T010000
END:STANDARD
BEGIN:DAYLIGHT
TZOFFSETFROM:+0100
TZOFFSETTO:+0200
TZNAME:CEST
DTSTART:20260329T010000
END:DAYLIGHT
BEGIN:STANDARD
TZOFFSETFROM:+0200
TZOFFSETTO:+0100
TZNAME:CET
DTSTART:20261025T010000
END:STANDARD
BEGIN:DAYLIGHT
TZOFFSETFROM:+0100
TZOFFSETTO:+0200
TZNAME:CEST
DTSTART:20270328T010000
END:DAYLIGHT
BEGIN:STANDARD
TZOFFSETFROM:+0200
TZOFFSETTO:+0100
TZNAME:CET
DTSTART:20271031T010000
END:STANDARD
END:VTIMEZONE
BEGIN:VEVENT
DTSTART;TZID=Europe/Vienna:20260409T190000
DTEND;TZID=Europe/Vienna:20260409T220000
DTSTAMP:20260423T142124
CREATED:20260111T192616Z
LAST-MODIFIED:20260111T192616Z
UID:698-1775761200-1775772000@jazzinschwechat.at
SUMMARY:Jazz Session im Brauhaus Schwechat
DESCRIPTION:
URL:https://jazzinschwechat.at/event/jazz-session-im-brauhaus-schwechat-6/
LOCATION:Brauhaus Schwechat\, Mautner Markhof Straße 13\, A-2320 Schwechat\, Niederösterreich\, 2320\, Austria
END:VEVENT
BEGIN:VEVENT
DTSTART;TZID=Europe/Vienna:20260305T190000
DTEND;TZID=Europe/Vienna:20260305T220000
DTSTAMP:20260423T142124
CREATED:20251113T093136Z
LAST-MODIFIED:20251113T093136Z
UID:640-1772737200-1772748000@jazzinschwechat.at
SUMMARY:Jazz Session im Brauhaus Schwechat - Irish Schwerpunkt
DESCRIPTION:
URL:https://jazzinschwechat.at/event/jazz-session-im-brauhaus-schwechat-irish-schwerpunkt/
LOCATION:Brauhaus Schwechat\, Mautner Markhof Straße 13\, A-2320 Schwechat\, Niederösterreich\, 2320\, Austria
END:VEVENT
BEGIN:VEVENT
DTSTART;TZID=Europe/Vienna:20260212T190000
DTEND;TZID=Europe/Vienna:20260212T220000
DTSTAMP:20260423T142124
CREATED:20251113T093050Z
LAST-MODIFIED:20251113T093247Z
UID:638-1770922800-1770933600@jazzinschwechat.at
SUMMARY:Jazz Session im Brauhaus Schwechat - Fetenknaller Schwerpunkt
DESCRIPTION:
URL:https://jazzinschwechat.at/event/jazz-session-im-brauhaus-schwechat-5/
LOCATION:Brauhaus Schwechat\, Mautner Markhof Straße 13\, A-2320 Schwechat\, Niederösterreich\, 2320\, Austria
END:VEVENT
BEGIN:VEVENT
DTSTART;TZID=Europe/Vienna:20260108T190000
DTEND;TZID=Europe/Vienna:20260108T220000
DTSTAMP:20260423T142124
CREATED:20251113T093007Z
LAST-MODIFIED:20251113T093007Z
UID:635-1767898800-1767909600@jazzinschwechat.at
SUMMARY:Jazz Session im Brauhaus Schwechat
DESCRIPTION:
URL:https://jazzinschwechat.at/event/jazz-session-im-brauhaus-schwechat-4/
LOCATION:Brauhaus Schwechat\, Mautner Markhof Straße 13\, A-2320 Schwechat\, Niederösterreich\, 2320\, Austria
END:VEVENT
BEGIN:VEVENT
DTSTART;TZID=Europe/Vienna:20251204T190000
DTEND;TZID=Europe/Vienna:20251204T220000
DTSTAMP:20260423T142124
CREATED:20251012T143436Z
LAST-MODIFIED:20251117T082506Z
UID:597-1764874800-1764885600@jazzinschwechat.at
SUMMARY:Jazz Session im Brauhaus Schwechat - Christmas Schwerpunkt
DESCRIPTION:
URL:https://jazzinschwechat.at/event/jazz-session-im-brauhaus-schwechat-3/
LOCATION:Brauhaus Schwechat\, Mautner Markhof Straße 13\, A-2320 Schwechat\, Niederösterreich\, 2320\, Austria
ATTACH;FMTTYPE=image/jpeg:https://jazzinschwechat.at/wp-content/uploads/2025/10/wallpaper-natal-keren18-e1763367858185.jpg
END:VEVENT
BEGIN:VEVENT
DTSTART;TZID=Europe/Vienna:20251106T190000
DTEND;TZID=Europe/Vienna:20251106T220000
DTSTAMP:20260423T142124
CREATED:20251012T143359Z
LAST-MODIFIED:20251012T143359Z
UID:595-1762455600-1762466400@jazzinschwechat.at
SUMMARY:Jazz Session im Brauhaus Schwechat
DESCRIPTION:
URL:https://jazzinschwechat.at/event/jazz-session-im-brauhaus-schwechat-2/
LOCATION:Brauhaus Schwechat\, Mautner Markhof Straße 13\, A-2320 Schwechat\, Niederösterreich\, 2320\, Austria
END:VEVENT
BEGIN:VEVENT
DTSTART;TZID=Europe/Vienna:20251009T190000
DTEND;TZID=Europe/Vienna:20251009T220000
DTSTAMP:20260423T142124
CREATED:20250810T133049Z
LAST-MODIFIED:20250915T171134Z
UID:558-1760036400-1760047200@jazzinschwechat.at
SUMMARY:Jazz Session im Brauhaus Schwechat
DESCRIPTION:
URL:https://jazzinschwechat.at/event/jazz-session-im-brauhaus-schwechat/
LOCATION:Brauhaus Schwechat\, Mautner Markhof Straße 13\, A-2320 Schwechat\, Niederösterreich\, 2320\, Austria
END:VEVENT
BEGIN:VEVENT
DTSTART;TZID=Europe/Vienna:20250831T140000
DTEND;TZID=Europe/Vienna:20250831T150000
DTSTAMP:20260423T142124
CREATED:20250705T161124Z
LAST-MODIFIED:20250708T092635Z
UID:430-1756648800-1756652400@jazzinschwechat.at
SUMMARY:Jazz Session am Stadtfest Schwechat
DESCRIPTION:
URL:https://jazzinschwechat.at/event/jazz-session-am-stadtfest-schwechat/
LOCATION:Stadion Bühne\, Franz Schuster Straße 1-3\, Rannersdorf\, Niederösterreich\, 2320\, Austria
END:VEVENT
BEGIN:VEVENT
DTSTART;TZID=Europe/Vienna:20250801T180000
DTEND;TZID=Europe/Vienna:20250801T220000
DTSTAMP:20260423T142124
CREATED:20250626T190714Z
LAST-MODIFIED:20250708T092707Z
UID:323-1754071200-1754085600@jazzinschwechat.at
SUMMARY:Jazz Session Summer Edition in Felmayer's Gastwirtschaft
DESCRIPTION:
URL:https://jazzinschwechat.at/event/sommer/
LOCATION:Felmayer’s Gastwirtschaft\, Neukettenhoferstraße 2-8\, Schwechat\, Niederösterreich\, 2320\, Austria
END:VEVENT
END:VCALENDAR